BEGIN:VCALENDAR
VERSION:2.0
PRODID:-//ChamberMaster//Event Calendar 2.0//EN
METHOD:PUBLISH
X-PUBLISHED-TTL:P3D
REFRESH-INTERVAL:P3D
CALSCALE:GREGORIAN
BEGIN:VEVENT
DTSTART;VALUE=DATE:20100929
DTEND;VALUE=DATE:20100930
TRANSP:TRANSPARENT
X-MICROSOFT-CDO-ALLDAYEVENT:TRUE
SUMMARY:092910 CYP Panel Program
DESCRIPTION:
X-ALT-DESC;FMTTYPE=text/html:
LOCATION:Microsoft NERD Center
UID:e.2584.571
SEQUENCE:3
DTSTAMP:20260420T183658Z
URL:http://cambridgechamberma.chambermaster.com/events/details/092910-cyp-panel-program-09-29-2010-571
END:VEVENT

END:VCALENDAR
